BEGIN:VCALENDAR
VERSION:2.0
PRODID:-//eventon.com NONSGML v1.0//EN
CALSCALE:GREGORIAN
METHOD:PUBLISH
BEGIN:VEVENT
UID:69eb92847097b
DTSTAMP:20260424T155548Z
DTSTART:20250719T230000Z
DTEND:20250720T035900Z
LOCATION:The AMP at Adamson Square 119 Bradley St\,  Carrollton\,  GA 30117
SUMMARY:Concerts at the Amp
DESCRIPTION:**Summer Concert Series!! | Special Guest: Mad Margritt\nhttps:
 //thejourneytributeband.com/events/concerts-at-the-amp/
URL:https://thejourneytributeband.com/events/concerts-at-the-amp/
END:VEVENT
END:VCALENDAR