BEGIN:VCALENDAR
VERSION:2.0
PRODID:-//eventon.com NONSGML v1.0//EN
CALSCALE:GREGORIAN
METHOD:PUBLISH
BEGIN:VEVENT
UID:69eccd22586b7
DTSTAMP:20260425T141810Z
DTSTART:20260501T223000Z
DTEND:20260502T035900Z
LOCATION:The Strand Theater 117 N Park Sq NE\,  Marietta\,  GA
SUMMARY:The Strand Theater (VIP Experience)
DESCRIPTION:**Tickets Available Now!! **Every VIP Ticket Purchase Includes:
  Early Entry with Choice Seating Meet &#8216;n Greet Signed Poster of the B
 and 3-Song Pre-Show Performance (Songs not contained in the main set) 2 Dri
 nk Vouchers\nhttps://thejourneytributeband.com/events/the-strand-theater-vi
 p-experience-13/
URL:https://thejourneytributeband.com/events/the-strand-theater-vip-experience-13/
END:VEVENT
END:VCALENDAR